BEGIN:VCALENDAR
VERSION:2.0
PRODID:-//Chandra Kant - ECPv4.2.1.1//NONSGML v1.0//EN
CALSCALE:GREGORIAN
METHOD:PUBLISH
X-WR-CALNAME:Chandra Kant
X-ORIGINAL-URL:https://chandra-kant.com
X-WR-CALDESC:Events for Chandra Kant
BEGIN:VEVENT
DTSTART;TZID=Asia/Kolkata:20120926T154500
DTEND;TZID=Asia/Kolkata:20120926T194500
DTSTAMP:20260423T183814
CREATED:20121001T083202
LAST-MODIFIED:20121001T083202
UID:8132-1348674300-1348688700@chandra-kant.com
SUMMARY:Bias in Thinking
DESCRIPTION:When we do not have enough data\, our mind fills the gaps with imagined / assumed data. This lecture focusses on the various biases we have that create possibly incorrect data. For example\, stereotyping is a bias which creates data about behaviour of people\, which may not be true.\n\nWe shall also be discussing Robert Cialdini and the theory of influence\, where we deliberately create bias as a means to prevent people from thinking rationally
URL:https://chandra-kant.com/event/bias-in-thinking/
LOCATION:Laxmipura Post\, Kanakpura Road\, Bangalore\, Karnataka\, 560062\, India
CATEGORIES:Emotional Intelligence,Strategic Thinking
END:VEVENT
END:VCALENDAR