BEGIN:VCALENDAR
VERSION:2.0
PRODID:-//Chandra Kant - ECPv4.2.1.1//NONSGML v1.0//EN
CALSCALE:GREGORIAN
METHOD:PUBLISH
X-WR-CALNAME:Chandra Kant
X-ORIGINAL-URL:https://chandra-kant.com
X-WR-CALDESC:Events for Chandra Kant
BEGIN:VEVENT
DTSTART;TZID=Asia/Kolkata:20120904T154500
DTEND;TZID=Asia/Kolkata:20120904T194000
DTSTAMP:20260423T183820
CREATED:20120831T095557
LAST-MODIFIED:20120909T094713
UID:8094-1346773500-1346787600@chandra-kant.com
SUMMARY:Creativity and Brainstorming
DESCRIPTION:Constraints in coming up with alternate solutions. Exercises in Creativity
URL:https://chandra-kant.com/event/creativity-and-brainstorming-2/
LOCATION:Laxmipura Post\, Kanakpura Road\, Bangalore\, Karnataka\, 560062\, India
CATEGORIES:Strategic Thinking
END:VEVENT
END:VCALENDAR