BEGIN:VCALENDAR
VERSION:2.0
PRODID:-//Chandra Kant - ECPv4.2.1.1//NONSGML v1.0//EN
CALSCALE:GREGORIAN
METHOD:PUBLISH
X-WR-CALNAME:Chandra Kant
X-ORIGINAL-URL:https://chandra-kant.com
X-WR-CALDESC:Events for Chandra Kant
BEGIN:VEVENT
DTSTART;TZID=Asia/Kolkata:20121012T173000
DTEND;TZID=Asia/Kolkata:20121012T203000
DTSTAMP:20260423T172343
CREATED:20121026T193021
LAST-MODIFIED:20121026T193021
UID:8255-1350063000-1350073800@chandra-kant.com
SUMMARY:Evolution of and variations in the Sales Function
DESCRIPTION:How has sales evolved from transactional to relationship based.\n\nWhat are the different types of sales\, based on the customer and the product.
URL:https://chandra-kant.com/event/evolution-of-and-variations-in-the-sales-function/
LOCATION:Laxmipura Post\, Kanakpura Road\, Bangalore\, 560062\, India
CATEGORIES:Sales
END:VEVENT
END:VCALENDAR