BEGIN:VCALENDAR
VERSION:2.0
PRODID:-//Chandra Kant - ECPv4.2.1.1//NONSGML v1.0//EN
CALSCALE:GREGORIAN
METHOD:PUBLISH
X-WR-CALNAME:Chandra Kant
X-ORIGINAL-URL:https://chandra-kant.com
X-WR-CALDESC:Events for Chandra Kant
BEGIN:VEVENT
DTSTART;TZID=Asia/Kolkata:20120912T154500
DTEND;TZID=Asia/Kolkata:20120912T194500
DTSTAMP:20260423T172215
CREATED:20120909T100145
LAST-MODIFIED:20120909T100247
UID:8103-1347464700-1347479100@chandra-kant.com
SUMMARY:Formal Brainstorming techniques
DESCRIPTION:We will do exercises in Reversal\, SCAMPER\, Morphological Analysis\, Reframing\, Concept Fans\, Random Input\, TRIZ\, De Bono's 6 Thinking Hats
URL:https://chandra-kant.com/event/formal-brainstorming-techniques-2/
LOCATION:Laxmipura Post\, Kanakpura Road\, Bangalore\, Karnataka\, 560062\, India
CATEGORIES:Strategic Thinking
END:VEVENT
END:VCALENDAR