BEGIN:VCALENDAR
VERSION:2.0
PRODID:-//Chandra Kant - ECPv4.2.1.1//NONSGML v1.0//EN
CALSCALE:GREGORIAN
METHOD:PUBLISH
X-WR-CALNAME:Chandra Kant
X-ORIGINAL-URL:https://chandra-kant.com
X-WR-CALDESC:Events for Chandra Kant
BEGIN:VEVENT
DTSTART;TZID=Asia/Kolkata:20120814T154500
DTEND;TZID=Asia/Kolkata:20120814T194500
DTSTAMP:20260423T183510
CREATED:20120806T114313
LAST-MODIFIED:20120806T120836
UID:7995-1344959100-1344973500@chandra-kant.com
SUMMARY:Emotions Management - Modifying Negative Thoughts
DESCRIPTION:What are negative automatic thoughts\n\nWhat are the various patterns of negative thoughts\n\nWhat can we do do.
URL:https://chandra-kant.com/event/nat1/
LOCATION:Laxmipura Post\, Kanakpura Road\, Bangalore\, Karnataka\, 560062\, India
CATEGORIES:Emotional Intelligence
END:VEVENT
END:VCALENDAR