BEGIN:VCALENDAR
VERSION:2.0
PRODID:-//Chandra Kant - ECPv4.2.1.1//NONSGML v1.0//EN
CALSCALE:GREGORIAN
METHOD:PUBLISH
X-WR-CALNAME:Chandra Kant
X-ORIGINAL-URL:https://chandra-kant.com
X-WR-CALDESC:Events for Chandra Kant
BEGIN:VEVENT
DTSTART;TZID=Asia/Kolkata:20120829T154500
DTEND;TZID=Asia/Kolkata:20120829T194500
DTSTAMP:20260423T194617
CREATED:20120827T195349
LAST-MODIFIED:20120827T195349
UID:8081-1346255100-1346269500@chandra-kant.com
SUMMARY:Problem Solving and Root Cause Analysis
DESCRIPTION:In order to make the right decisions or arrive at a good solution\, we need to understand what is the real problem. We will examine the characteristics of the problems\, and how to determine if we are focussing on the right issues.\n\n \n\nWe will talk about assumptions and how we try to convince people when there is not enough data.
URL:https://chandra-kant.com/event/problem-solving-and-root-cause-analysis-2/
LOCATION:Laxmipura Post\, Kanakpura Road\, Bangalore\, Karnataka\, 560062\, India
CATEGORIES:Career Management,Strategic Thinking
END:VEVENT
END:VCALENDAR