BEGIN:VCALENDAR
VERSION:2.0
PRODID:-//Chandra Kant - ECPv4.2.1.1//NONSGML v1.0//EN
CALSCALE:GREGORIAN
METHOD:PUBLISH
X-WR-CALNAME:Chandra Kant
X-ORIGINAL-URL:https://chandra-kant.com
X-WR-CALDESC:Events for Chandra Kant
BEGIN:VEVENT
DTSTART;TZID=Asia/Kolkata:20121212T090000
DTEND;TZID=Asia/Kolkata:20121212T120000
DTSTAMP:20260423T160139
CREATED:20130119T131330
LAST-MODIFIED:20130119T131330
UID:8341-1355302800-1355313600@chandra-kant.com
SUMMARY:Strategic Thinking - Consistency Tests - Are all the parts working in tandem?
DESCRIPTION:Are production\, marketing and finance working with the same objectives or are they at loggerheads with each other? Find out using the Consistency Tests.\n\nThese tests have been extracted from Dan Thomas's Business Sense.
URL:https://chandra-kant.com/event/strategic-thinking-consistency-tests-are-all-the-parts-working-in-tandem/
LOCATION:Laxmipura Post\, Kanakpura Road\, Bangalore\, 560062\, India
CATEGORIES:Strategic Thinking
END:VEVENT
END:VCALENDAR