BEGIN:VCALENDAR
VERSION:2.0
PRODID:-//Chandra Kant - ECPv4.2.1.1//NONSGML v1.0//EN
CALSCALE:GREGORIAN
METHOD:PUBLISH
X-WR-CALNAME:Chandra Kant
X-ORIGINAL-URL:https://chandra-kant.com
X-WR-CALDESC:Events for Chandra Kant
BEGIN:VEVENT
DTSTART;TZID=Asia/Kolkata:20121121T090000
DTEND;TZID=Asia/Kolkata:20121121T170000
DTSTAMP:20260423T154728
CREATED:20130119T124252
LAST-MODIFIED:20130119T125240
UID:8332-1353488400-1353517200@chandra-kant.com
SUMMARY:Strategic Thinking - Current State Analysis
DESCRIPTION:Before we can determine how to achieve our goals\, we need to do a current situation analysis. SWOT may or may not help. We have to break this down by analysing the marketing\, production\, finance and R&D strategy\, seperately and together.
URL:https://chandra-kant.com/event/strategic-thinking-current-state-analysis/
LOCATION:Laxmipura Post\, Kanakpura Road\, Bangalore\, 560062\, India
CATEGORIES:Strategic Thinking
END:VEVENT
END:VCALENDAR