BEGIN:VCALENDAR
VERSION:2.0
PRODID:-//Chandra Kant - ECPv4.2.1.1//NONSGML v1.0//EN
CALSCALE:GREGORIAN
METHOD:PUBLISH
X-WR-CALNAME:Chandra Kant
X-ORIGINAL-URL:https://chandra-kant.com
X-WR-CALDESC:Events for Chandra Kant
BEGIN:VEVENT
DTSTART;TZID=Asia/Kolkata:20121219T090000
DTEND;TZID=Asia/Kolkata:20121219T120000
DTSTAMP:20260423T170327
CREATED:20130119T131915
LAST-MODIFIED:20130119T131915
UID:8345-1355907600-1355918400@chandra-kant.com
SUMMARY:Strategic Thinking - How do we create the right mission and vision statement?
DESCRIPTION:What is the relationship of mission and vision statements to strategy?\n\nWhy do we even need these statements?\n\nHow do we create something unique and significant?
URL:https://chandra-kant.com/event/strategic-thinking-how-do-we-create-the-right-mission-and-vision-statement/
LOCATION:Laxmipura Post\, Kanakpura Road\, Bangalore\, 560062\, India
CATEGORIES:Strategic Thinking
END:VEVENT
END:VCALENDAR