BEGIN:VCALENDAR
VERSION:2.0
PRODID:-//Chandra Kant - ECPv4.2.1.1//NONSGML v1.0//EN
CALSCALE:GREGORIAN
METHOD:PUBLISH
X-WR-CALNAME:Chandra Kant
X-ORIGINAL-URL:https://chandra-kant.com
X-WR-CALDESC:Events for Chandra Kant
BEGIN:VEVENT
DTSTART;TZID=Asia/Kolkata:20120926T093000
DTEND;TZID=Asia/Kolkata:20120926T123000
DTSTAMP:20260423T172505
CREATED:20121001T100007
LAST-MODIFIED:20121001T100007
UID:8143-1348651800-1348662600@chandra-kant.com
SUMMARY:Strategic Thinking: What is a 'Good' Business?
DESCRIPTION:Is Business the same as a industry segment or sector. What is shareholder wealth? Is profits more important\, or growth\, or exit strategy / diversification? These questions will be answered in this session.\n\nas the CEO of your career\, what is the definition of shareholder wealth? Do we look for growth prospects in a job\, or salary or profile or a step to a different job. The participants would be encouraged to think strategically as a CEO.
URL:https://chandra-kant.com/event/strategic-thinking-what-is-a-good-business/
LOCATION:Laxmipura Post\, Kanakpura Road\, Bangalore\, Karnataka\, 560062\, India
CATEGORIES:Career Management,Strategic Thinking
END:VEVENT
END:VCALENDAR