BEGIN:VCALENDAR
VERSION:2.0
PRODID:-//Chandra Kant - ECPv4.2.1.1//NONSGML v1.0//EN
CALSCALE:GREGORIAN
METHOD:PUBLISH
X-WR-CALNAME:Chandra Kant
X-ORIGINAL-URL:https://chandra-kant.com
X-WR-CALDESC:Events for Chandra Kant
BEGIN:VEVENT
DTSTART;TZID=Asia/Kolkata:20120808T154500
DTEND;TZID=Asia/Kolkata:20120808T194500
DTSTAMP:20260423T195423
CREATED:20120731T033148
LAST-MODIFIED:20120806T113531
UID:7968-1344440700-1344455100@chandra-kant.com
SUMMARY:Stress Management - Sources of Stress
DESCRIPTION:What are your sources of stress\n\nVarious categories of stress management - physical\, emotional and cognitive\n\nPracticing Stress Management - Meditation\, Progressive Relaxation\, Stretching
URL:https://chandra-kant.com/event/stress-management-sources-of-stress-2/
LOCATION:Laxmipura Post\, Kanakpura Road\, Bangalore\, Karnataka\, 560062\, India
CATEGORIES:Stress Management
END:VEVENT
END:VCALENDAR